BEGIN:VCALENDAR
VERSION:2.0
PRODID:-//High Desert Medical College - ECPv6.15.20//NONSGML v1.0//EN
CALSCALE:GREGORIAN
METHOD:PUBLISH
X-WR-CALNAME:High Desert Medical College
X-ORIGINAL-URL:https://hdmc.edu
X-WR-CALDESC:Events for High Desert Medical College
REFRESH-INTERVAL;VALUE=DURATION:PT1H
X-Robots-Tag:noindex
X-PUBLISHED-TTL:PT1H
BEGIN:VTIMEZONE
TZID:America/Los_Angeles
BEGIN:DAYLIGHT
TZOFFSETFROM:-0800
TZOFFSETTO:-0700
TZNAME:PDT
DTSTART:20240310T100000
END:DAYLIGHT
BEGIN:STANDARD
TZOFFSETFROM:-0700
TZOFFSETTO:-0800
TZNAME:PST
DTSTART:20241103T090000
END:STANDARD
BEGIN:DAYLIGHT
TZOFFSETFROM:-0800
TZOFFSETTO:-0700
TZNAME:PDT
DTSTART:20250309T100000
END:DAYLIGHT
BEGIN:STANDARD
TZOFFSETFROM:-0700
TZOFFSETTO:-0800
TZNAME:PST
DTSTART:20251102T090000
END:STANDARD
BEGIN:DAYLIGHT
TZOFFSETFROM:-0800
TZOFFSETTO:-0700
TZNAME:PDT
DTSTART:20260308T100000
END:DAYLIGHT
BEGIN:STANDARD
TZOFFSETFROM:-0700
TZOFFSETTO:-0800
TZNAME:PST
DTSTART:20261101T090000
END:STANDARD
END:VTIMEZONE
BEGIN:VEVENT
DTSTART;TZID=America/Los_Angeles:20251201T080000
DTEND;TZID=America/Los_Angeles:20251205T170000
DTSTAMP:20260421T161909
CREATED:20251201T170004Z
LAST-MODIFIED:20251201T194723Z
UID:47474-1764576000-1764954000@hdmc.edu
SUMMARY:Warm Welcome Open House Week - Dec 1 - 5 | All HDMC Campuses
DESCRIPTION:Warm Welcome Open House Week at HDMC!  Join us for a week-long Open House at all High Desert Medical College campuses in Bakersfield\, Lancaster\, and Temecula\, Monday\, December 1\, 2025 – Friday\, December 5\, 2025. Stop by anytime from 8am to 7pm Monday-Thursday or from 8am-5pm on Friday.  Take a tour to learn more about our healthcare career training programs and get a complimentary beanie and fringed scarf!  Click here for addresses to each of our campuses. Parking is free at every campus. Bring your friends and family\, too.
URL:https://hdmc.edu/event/warm-welcome-open-house-week-at-hdmc/
CATEGORIES:On Campus
ATTACH;FMTTYPE=image/jpeg:https://hdmc.edu/wp-content/uploads/2025/11/1920x1005_HDMC_WelcomeWeek_FB.jpg
END:VEVENT
END:VCALENDAR