BEGIN:VCALENDAR
VERSION:2.0
PRODID:-//High Desert Medical College - ECPv6.15.20//NONSGML v1.0//EN
CALSCALE:GREGORIAN
METHOD:PUBLISH
X-ORIGINAL-URL:https://hdmc.edu
X-WR-CALDESC:Events for High Desert Medical College
REFRESH-INTERVAL;VALUE=DURATION:PT1H
X-Robots-Tag:noindex
X-PUBLISHED-TTL:PT1H
BEGIN:VTIMEZONE
TZID:America/Los_Angeles
BEGIN:DAYLIGHT
TZOFFSETFROM:-0800
TZOFFSETTO:-0700
TZNAME:PDT
DTSTART:20240310T100000
END:DAYLIGHT
BEGIN:STANDARD
TZOFFSETFROM:-0700
TZOFFSETTO:-0800
TZNAME:PST
DTSTART:20241103T090000
END:STANDARD
BEGIN:DAYLIGHT
TZOFFSETFROM:-0800
TZOFFSETTO:-0700
TZNAME:PDT
DTSTART:20250309T100000
END:DAYLIGHT
BEGIN:STANDARD
TZOFFSETFROM:-0700
TZOFFSETTO:-0800
TZNAME:PST
DTSTART:20251102T090000
END:STANDARD
BEGIN:DAYLIGHT
TZOFFSETFROM:-0800
TZOFFSETTO:-0700
TZNAME:PDT
DTSTART:20260308T100000
END:DAYLIGHT
BEGIN:STANDARD
TZOFFSETFROM:-0700
TZOFFSETTO:-0800
TZNAME:PST
DTSTART:20261101T090000
END:STANDARD
END:VTIMEZONE
BEGIN:VEVENT
DTSTART;TZID=America/Los_Angeles:20250717T120000
DTEND;TZID=America/Los_Angeles:20250717T190000
DTSTAMP:20260422T015014
CREATED:20250714T184137Z
LAST-MODIFIED:20250714T184219Z
UID:47167-1752753600-1752778800@hdmc.edu
SUMMARY:HDMC Temecula Nursing Information Session - July 17 at 12pm and 6pm
DESCRIPTION:High Desert Medical College in Temecula invites you to a Nursing Information Session by Zoom on Thursday\, July 17 at 12pm and 6pm. Choose a time that works best for you. Our admissions team will review the Vocational Nursing program from testing to classroom\, labs and curriculum\, as well as answer any questions you have.   No need to R.S.V.P.\, just click on the day and link below the day of the session.  Thursday\, July 17 at 12pm\, click here: https://legacyed.zoom.us/j/4199015822?pwd=Kxq4F9gdL5TJ0sUmAUYGnQdjvtnLNd.1    Check out our Temecula campus where your VN classes will take place.
URL:https://hdmc.edu/event/hdmc-temecula-nursing-information-session-july-17-at-12pm-and-6pm/
CATEGORIES:Virtual
ATTACH;FMTTYPE=image/png:https://hdmc.edu/wp-content/uploads/2025/06/NURSING-SESSION-REMINDER.png
END:VEVENT
END:VCALENDAR